BEGIN:VCALENDAR
VERSION:2.0
PRODID:-//Republic Training Online - ECPv5.7.0//NONSGML v1.0//EN
CALSCALE:GREGORIAN
METHOD:PUBLISH
X-WR-CALNAME:Republic Training Online
X-ORIGINAL-URL:https://republictraining.online
X-WR-CALDESC:Events for Republic Training Online
BEGIN:VTIMEZONE
TZID:UTC
BEGIN:STANDARD
TZOFFSETFROM:+0000
TZOFFSETTO:+0000
TZNAME:UTC
DTSTART:20150101T000000
END:STANDARD
END:VTIMEZONE
BEGIN:VEVENT
DTSTART;TZID=UTC:20150725T080000
DTEND;TZID=UTC:20250313T220000
DTSTAMP:20260423T080905
CREATED:20140301T123804Z
LAST-MODIFIED:20200704T013328Z
UID:3636-1437811200-1741903200@republictraining.online
SUMMARY:New Events are Coming
DESCRIPTION:Keep watching this section for new events
URL:https://republictraining.online/event/welcoming-25th-batch/
LOCATION:TBD\, United States
CATEGORIES:Celebrate
ATTACH;FMTTYPE=image/jpeg:https://republictraining.online/wp-content/uploads/2014/05/course11.jpg
END:VEVENT
END:VCALENDAR